BEGIN:VCALENDAR
VERSION:2.0
PRODID:-//Troost Travel - ECPv6.15.12.2//NONSGML v1.0//EN
CALSCALE:GREGORIAN
METHOD:PUBLISH
X-WR-CALNAME:Troost Travel
X-ORIGINAL-URL:https://troosttravel.nl
X-WR-CALDESC:Evenementen voor Troost Travel
REFRESH-INTERVAL;VALUE=DURATION:PT1H
X-Robots-Tag:noindex
X-PUBLISHED-TTL:PT1H
BEGIN:VTIMEZONE
TZID:Europe/Amsterdam
BEGIN:DAYLIGHT
TZOFFSETFROM:+0100
TZOFFSETTO:+0200
TZNAME:CEST
DTSTART:20250330T010000
END:DAYLIGHT
BEGIN:STANDARD
TZOFFSETFROM:+0200
TZOFFSETTO:+0100
TZNAME:CET
DTSTART:20251026T010000
END:STANDARD
BEGIN:DAYLIGHT
TZOFFSETFROM:+0100
TZOFFSETTO:+0200
TZNAME:CEST
DTSTART:20260329T010000
END:DAYLIGHT
BEGIN:STANDARD
TZOFFSETFROM:+0200
TZOFFSETTO:+0100
TZNAME:CET
DTSTART:20261025T010000
END:STANDARD
BEGIN:DAYLIGHT
TZOFFSETFROM:+0100
TZOFFSETTO:+0200
TZNAME:CEST
DTSTART:20270328T010000
END:DAYLIGHT
BEGIN:STANDARD
TZOFFSETFROM:+0200
TZOFFSETTO:+0100
TZNAME:CET
DTSTART:20271031T010000
END:STANDARD
END:VTIMEZONE
BEGIN:VEVENT
DTSTART;TZID=Europe/Amsterdam:20260529T100000
DTEND;TZID=Europe/Amsterdam:20260529T120000
DTSTAMP:20260420T102751
CREATED:20250322T054310Z
LAST-MODIFIED:20260326T132654Z
UID:1107-1780048800-1780056000@troosttravel.nl
SUMMARY:Wake Up Walk – Maak foto’s als een pro
DESCRIPTION:Iedereen wil mooie foto’s maken\, maar bijna niemand durft toe te geven dat de meeste smartphonefoto’s… gewoon slecht zijn. \nWazig. Flets. Nietszeggend.\nEn dan vraag je je af waarom het moment in je hoofd mooier blijft dan op je scherm. \nGoed. Tijd om dat op te lossen. \nOp vrijdag 29 mei om 10:00 neem ik tijdens de Wake Up Walk iemand mee die wél weet wat hij doet: Sidney Lehmann\, specialist in smartphone fotografie. \nGeen vage “tips”\, geen trucjes die je toch nooit gebruikt. \nGewoon: hoe je met je telefoon foto’s maakt die kloppen.\nLicht\, compositie\, sfeer. Simpel\, maar niemand doet het goed. \nSidney heeft bakken ervaring\, een stevig online publiek en een boek dat laat zien hoe ver je kunt komen met één apparaat dat je altijd bij je hebt: je telefoon. \nWe wandelen door de Biesbosch. Rustig tempo\, geen prestatiedrang. Je leert. Je kijkt.\nJe maakt foto’s die niet voelen als toevalstreffers. \nEn ja: we eindigen weer met koffie en bananenbrood. Natuurlijk. \nIk neem maar 15 mensen mee.\nHeb je een smartphone met portretmodus? Dan kun je meedoen.
URL:https://troosttravel.nl/event/wake-up-walk-maak-fotos-als-een-pro/
CATEGORIES:Wake up walks
ATTACH;FMTTYPE=image/png:https://troosttravel.nl/wp-content/uploads/2025/03/Schotse-Hooglander.png
END:VEVENT
BEGIN:VEVENT
DTSTART;VALUE=DATE:20260623
DTEND;VALUE=DATE:20260626
DTSTAMP:20260420T102751
CREATED:20250322T070242Z
LAST-MODIFIED:20260413T191328Z
UID:1165-1782172800-1782431999@troosttravel.nl
SUMMARY:Trips - Wad wil je nu
DESCRIPTION:Wad wil je nu\n \nJe wordt geleefd. Door je werk\, je gezin\, je telefoon\, je eigen verwachtingen. Ergens onderweg ben je gestopt met de vraag: wat wil ik eigenlijk? \nDrie dagen op de Wadden geven je die vraag terug. \nJe slaapt op een prachtige boerderij midden in het Friese landschap\, aan de rand van Nationaal Park Het Lauwersmeer. Weids uitzicht\, stilte\, een Finse Kota in de tuin en een sterrenhemel die je in de Randstad niet meer kent. Je kookt samen met mensen die dezelfde onrust herkennen en zit ’s avonds rond het kampvuur met gesprekken waar geen agenda aan te pas komt. \n \nwadlopen\, groep in actie op het wad\, weidsheid \nOverdag loop je met een ervaren gids tien kilometer over de bodem van de Waddenzee. Slik onder je voeten\, wind in je gezicht\, en voor het eerst in tijden: stilte in je hoofd. Dat is geen wandeling. Dat is een ervaring die iets met je doet. \nJe gaat niet alleen fysiek op pad\, maar ook met jezelf. Geen telefoon\, geen to-do lijst\, geen ruis. Wel ruimte om eerlijk te zijn over wat ertoe doet in je leven. \nEr is een sauna. Er is een Finse Kota. Er zijn gesprekken die je op kantoor of thuis niet voert. Niet omdat ze moeilijk zijn\, maar omdat er nooit ruimte voor is. \nDie ruimte is er hier wel. \n \nFinse Kota of kampvuursfeer\, avondlicht \nMartine van Wageningen en ik begeleiden de reis. Wij stellen de vragen die ertoe doen. Niet met een flip-over of een werkboek\, maar lopend\, etend\, in de stilte tussendoor. \n  \nVoor wie is dit? \nVoor de ondernemer\, de leidinggevende\, de zelfstandige die altijd aan staat. Die veel doet voor anderen en weinig voor zichzelf. Die merkt dat harder werken niet meer het antwoord is\, maar nog niet weet wat dan wel. \nJe hoeft geen ervaring te hebben met retraites of groepsgesprekken. Je hoeft alleen bereid te zijn om even te stoppen. En een basisconditie te hebben\, want tien kilometer wadlopen is een serieuze uitdaging. \nVoor 13 mensen. Meer niet. En dat is met opzet. \n  \nPraktisch \n📅 23\, 24 en 25 juni 2026 (dinsdag t/m donderdag) \n📍 Vakantieboerderij Engwierum\, Friesland \n👥 Max 13 deelnemers \n💶 Introductieprijs: € 395 p.p. \nInclusief: 2 overnachtingen\, alle maaltijden en dranken\, wadlopen met een professionele gids\, sauna\, Finse Kota\, begeleiding door Sara Troost en Martine van Wageningen. \nEigen vervoer naar de locatie.  \nNa aanmelding ontvang je een deelnemersbrief met alle praktische details.
URL:https://troosttravel.nl/event/trips-wad-wil-je-nu/
LOCATION:Lauwersoog\, Friesland\, Netherlands
CATEGORIES:Trips
ATTACH;FMTTYPE=image/png:https://troosttravel.nl/wp-content/uploads/2025/03/Scherm_afbeelding-2026-04-11-om-20.33.56-e1776107595928.png
END:VEVENT
BEGIN:VEVENT
DTSTART;TZID=Europe/Amsterdam:20260626T080000
DTEND;TZID=Europe/Amsterdam:20260626T100000
DTSTAMP:20260420T102751
CREATED:20260301T171314Z
LAST-MODIFIED:20260301T171844Z
UID:1517-1782460800-1782468000@troosttravel.nl
SUMMARY:Wake up walk - De "Big Five" van de Biesbosch
DESCRIPTION:Je hoeft echt niet naar Afrika.\n \nWij hebben onze eigen Big Five. \nEn die laten zich zien op vijf minuten rijden van het centrum van Dordrecht. \n  \nDe Zeearend. Ook wel ‘de vliegende deur’ genoemd. Niet omdat hij klein is\, maar omdat zijn spanwijdte zo groot is dat je even niet gelooft wat je ziet. Hij broedt succesvol in de Biesbosch en cirkelt in juni volop boven de wateren.\n \nDe Visarend. Een zomergast. In juni is hij volop aan het vissen en heeft hij weinig interesse in jouw agenda. Wel in die van de vissen hier.\n \nDe Bever. Het symbool van het park. Hij is er altijd\, maar in juni zijn de dagen lang en de avonden zacht. Precies het moment waarop hij zijn gang gaat langs de oevers.\n \nDe Ree. Sierlijk\, stil en net iets te zelfverzekerd voor een dier dat eigenlijk verlegen is. Je vindt hem aan de bosranden en in de polders\, vooral als de dag net begint.\n \nDe IJsvogel. Een flits blauw. Zo snel dat je je afvraagt of je het je verbeeldt. Maar nee\, hij was er echt. \n  \nOp 26 juni lopen we twee uur door dit zoetwatergetijdengebied op zoek naar al vijf. \nOnze gids weet waar ze zitten\, wat ze doen en waarom juni het beste moment is om ze te spotten. \n  \nOndertussen loop je naast ondernemers die ook buiten willen zijn. Geen powerpoint. Geen tafelschikking. Gewoon een goed gesprek op een mooi stuk aarde.\n \nWe sluiten af met koffie en bananenbrood. \n  \nPraktisch \nDatum: 26 juni \nTijd: 08.00 tot 10.00 \nLocatie: De Biesbosch\, Dordrecht \nKosten: €25 per persoon \nPlekken: maximaal 15 \nTrek stevige schoenen aan. De rest regelen wij.
URL:https://troosttravel.nl/event/wake-up-walk-de-big-five-van-de-biesbosch/
CATEGORIES:Wake up walks
ATTACH;FMTTYPE=image/png:https://troosttravel.nl/wp-content/uploads/2026/03/wake-up-walk-De-Big-Five-van-de-Biesbosch.png
END:VEVENT
BEGIN:VEVENT
DTSTART;VALUE=DATE:20260918
DTEND;VALUE=DATE:20260922
DTSTAMP:20260420T102751
CREATED:20250322T062702Z
LAST-MODIFIED:20260331T144748Z
UID:1155-1789696800-1789955999@troosttravel.nl
SUMMARY:Trips – Detox
DESCRIPTION:Even helemaal offline. Voor een reset van lichaam en geest.\nIn ons drukke leven staan we continu ‘aan’. Schermen\, prikkels\, ongezonde gewoontes\, het stapelt zich allemaal op.\nDit detox weekend helpt je om los te komen van de dagelijkse drukte en opnieuw verbinding te maken met jezelf\, de natuur en puur eten. \nWat kun je verwachten?🌿 Digitale Detox – Telefoons gaan uit\, laptops blijven thuis. Ervaar de rust van écht aanwezig zijn.🥗 Voedingsdetox – Drie dagen lang voedzaam\, puur en onbewerkt eten. Geen suikers\, cafeïne of bewerkte producten. \nVoor wie?Dit weekend is perfect voor iedereen die behoefte heeft aan rust\, een frisse start wil maken en gezondere gewoontes wil omarmen. Of je nu ondernemer\, drukke ouder of gewoon toe bent aan een reset. Dit is voor jou.
URL:https://troosttravel.nl/event/trips-rwanda/
CATEGORIES:Trips
ATTACH;FMTTYPE=image/png:https://troosttravel.nl/wp-content/uploads/2025/03/Home.png
END:VEVENT
END:VCALENDAR